BEGIN:VCALENDAR
VERSION:2.0
PRODID:-//www.thesupplychainproject.org//NONSGML class-registration-event//EN
METHOD:PUBLISH
BEGIN:VEVENT
UID:91721678550
DTSTAMP:20240725T093000
DTSTART:20240725T093000
DTEND:20240725T103000
LOCATION:Virtual Conference, Zoom Conference Meeting
SUMMARY:Basic HTML and CSS in Web Portal Design Workshop Block 1
DESCRIPTION:Basic HTML and CSS in Web Portal Design Workshop Block 2
END:VEVENT
END:VCALENDAR