BEGIN:VCALENDAR
VERSION:2.0
PRODID:-//www.thesupplychainproject.org//NONSGML class-registration-event//EN
METHOD:PUBLISH
BEGIN:VEVENT
UID:41672533776
DTSTAMP:20230119T093000
DTSTART:20230119T093000
DTEND:20230119T113000
LOCATION:Zoom Virtual Meeting
SUMMARY:Optimizing Your Supply Chain
DESCRIPTION:Understanding How to Optimize your Supply Chain
END:VEVENT
END:VCALENDAR