BEGIN:VCALENDAR
VERSION:2.0
PRODID:-//www.thesupplychainproject.org//NONSGML class-registration-event//EN
METHOD:PUBLISH
BEGIN:VEVENT
UID:101721678806
DTSTAMP:20240801T093000
DTSTART:20240801T093000
DTEND:20240801T103000
LOCATION:Zoom Conference Meeting
SUMMARY:Basic HTML and CSS in Web Design Workshop Block 2
DESCRIPTION:Basic HTML and CSS in Web Design Workshop Block 2
END:VEVENT
END:VCALENDAR